BEGIN:VCALENDAR
VERSION:2.0
PRODID:-//Bowie State University National Alumni Association - ECPv6.13.1//NONSGML v1.0//EN
CALSCALE:GREGORIAN
METHOD:PUBLISH
X-ORIGINAL-URL:https://bsunaa.org
X-WR-CALDESC:Events for Bowie State University National Alumni Association
REFRESH-INTERVAL;VALUE=DURATION:PT1H
X-Robots-Tag:noindex
X-PUBLISHED-TTL:PT1H
BEGIN:VTIMEZONE
TZID:America/New_York
BEGIN:DAYLIGHT
TZOFFSETFROM:-0500
TZOFFSETTO:-0400
TZNAME:EDT
DTSTART:20250309T070000
END:DAYLIGHT
BEGIN:STANDARD
TZOFFSETFROM:-0400
TZOFFSETTO:-0500
TZNAME:EST
DTSTART:20251102T060000
END:STANDARD
END:VTIMEZONE
BEGIN:VEVENT
DTSTART;TZID=America/New_York:20251213T100000
DTEND;TZID=America/New_York:20251213T120000
DTSTAMP:20260421T051230
CREATED:20250515T140858Z
LAST-MODIFIED:20251203T180749Z
UID:496-1765620000-1765627200@bsunaa.org
SUMMARY:BSUNAA: Quarterly Association Meeting
DESCRIPTION:The quarterly association meeting originally scheduled for Saturday\, November 22nd has been rescheduled to Saturday\, December 13th\, from 10:00 a.m. to 12:00 p.m. This revised date will include both the quarterly board meeting and a holiday celebration. Please note\, the Quarterly Meeting is open to the general body of members.
URL:https://bsunaa.org/event/bsunaa-quarterly-association-meeting-2/
LOCATION:Wayne K. Curry County Administration\, 1301 McCormick Dr\, Largo\, MD\, 20774\, United States
CATEGORIES:Community,General Event
END:VEVENT
END:VCALENDAR